BEGIN:VCALENDAR
VERSION:2.0
PRODID:-//Institut Martin Luther - ECPv6.15.20//NONSGML v1.0//EN
CALSCALE:GREGORIAN
METHOD:PUBLISH
X-WR-CALNAME:Institut Martin Luther
X-ORIGINAL-URL:https://institutluther.com
X-WR-CALDESC:Évènements pour Institut Martin Luther
REFRESH-INTERVAL;VALUE=DURATION:PT1H
X-Robots-Tag:noindex
X-PUBLISHED-TTL:PT1H
BEGIN:VTIMEZONE
TZID:Europe/Paris
BEGIN:DAYLIGHT
TZOFFSETFROM:+0100
TZOFFSETTO:+0200
TZNAME:CEST
DTSTART:20250330T010000
END:DAYLIGHT
BEGIN:STANDARD
TZOFFSETFROM:+0200
TZOFFSETTO:+0100
TZNAME:CET
DTSTART:20251026T010000
END:STANDARD
BEGIN:DAYLIGHT
TZOFFSETFROM:+0100
TZOFFSETTO:+0200
TZNAME:CEST
DTSTART:20260329T010000
END:DAYLIGHT
BEGIN:STANDARD
TZOFFSETFROM:+0200
TZOFFSETTO:+0100
TZNAME:CET
DTSTART:20261025T010000
END:STANDARD
BEGIN:DAYLIGHT
TZOFFSETFROM:+0100
TZOFFSETTO:+0200
TZNAME:CEST
DTSTART:20270328T010000
END:DAYLIGHT
BEGIN:STANDARD
TZOFFSETFROM:+0200
TZOFFSETTO:+0100
TZNAME:CET
DTSTART:20271031T010000
END:STANDARD
END:VTIMEZONE
BEGIN:VEVENT
DTSTART;TZID=Europe/Paris:20260208T140000
DTEND;TZID=Europe/Paris:20260208T180000
DTSTAMP:20260424T172748
CREATED:20260128T175608Z
LAST-MODIFIED:20260128T175608Z
UID:830-1770559200-1770573600@institutluther.com
SUMMARY:Le pasteur Alain Joly dédicacera ses livres au salon « Lire en Vexin » le dimanche 8 février
DESCRIPTION:
URL:https://institutluther.com/event/le-pasteur-alain-joly-dedicacera-ses-livres-au-salon-lire-en-vexin-le-dimanche-8-fevrier/
ATTACH;FMTTYPE=image/jpeg:https://institutluther.com/wp-content/uploads/2026/01/89a74d60-a766-408b-a380-8bc4aaf67d7a.png-bleu.jpg
END:VEVENT
BEGIN:VEVENT
DTSTART;TZID=Europe/Paris:20260223T080000
DTEND;TZID=Europe/Paris:20260224T170000
DTSTAMP:20260424T172748
CREATED:20260128T175934Z
LAST-MODIFIED:20260128T180023Z
UID:833-1771833600-1771952400@institutluther.com
SUMMARY:Communication du pasteur Alain Joly au colloque "Le Sola Scriptura a-t-il encore un sens ?"
DESCRIPTION:AU CENTRE D’ACCUEIL SPIRITAIN\n12 RUE PÈRE MAZURÉ\n94550 CHEVILLY-LARUE
URL:https://institutluther.com/event/communication-du-pasteur-alain-joly-au-colloque-le-sola-scriptura-a-t-il-encore-un-sens/
END:VEVENT
END:VCALENDAR