BEGIN:VCALENDAR
VERSION:2.0
PRODID:-//Institut Martin Luther - ECPv6.15.20//NONSGML v1.0//EN
CALSCALE:GREGORIAN
METHOD:PUBLISH
X-WR-CALNAME:Institut Martin Luther
X-ORIGINAL-URL:https://institutluther.com
X-WR-CALDESC:Évènements pour Institut Martin Luther
REFRESH-INTERVAL;VALUE=DURATION:PT1H
X-Robots-Tag:noindex
X-PUBLISHED-TTL:PT1H
BEGIN:VTIMEZONE
TZID:Europe/Paris
BEGIN:DAYLIGHT
TZOFFSETFROM:+0100
TZOFFSETTO:+0200
TZNAME:CEST
DTSTART:20210328T010000
END:DAYLIGHT
BEGIN:STANDARD
TZOFFSETFROM:+0200
TZOFFSETTO:+0100
TZNAME:CET
DTSTART:20211031T010000
END:STANDARD
BEGIN:DAYLIGHT
TZOFFSETFROM:+0100
TZOFFSETTO:+0200
TZNAME:CEST
DTSTART:20220327T010000
END:DAYLIGHT
BEGIN:STANDARD
TZOFFSETFROM:+0200
TZOFFSETTO:+0100
TZNAME:CET
DTSTART:20221030T010000
END:STANDARD
BEGIN:DAYLIGHT
TZOFFSETFROM:+0100
TZOFFSETTO:+0200
TZNAME:CEST
DTSTART:20230326T010000
END:DAYLIGHT
BEGIN:STANDARD
TZOFFSETFROM:+0200
TZOFFSETTO:+0100
TZNAME:CET
DTSTART:20231029T010000
END:STANDARD
END:VTIMEZONE
BEGIN:VEVENT
DTSTART;TZID=Europe/Paris:20221112T190000
DTEND;TZID=Europe/Paris:20221112T203000
DTSTAMP:20260424T161359
CREATED:20221112T095311Z
LAST-MODIFIED:20221112T095311Z
UID:523-1668279600-1668285000@institutluther.com
SUMMARY:Concert Michaël Levinas le 12 janvier 2023
DESCRIPTION:
URL:https://institutluther.com/event/concert-michael-levinas-le-12-janvier-2023/
LOCATION:Eglise luthérienne Saint-Marcel\, 24 rue Pierre Nicole\, Paris\, 75005\, France
CATEGORIES:Concerts
ATTACH;FMTTYPE=image/jpeg:https://institutluther.com/wp-content/uploads/2022/11/2023-01-12-AFFICHE-LEVINAS-DIFFUSION-WEB-scaled.jpg
END:VEVENT
BEGIN:VEVENT
DTSTART;TZID=Europe/Paris:20221115T210000
DTEND;TZID=Europe/Paris:20221115T223000
DTSTAMP:20260424T161359
CREATED:20221022T084440Z
LAST-MODIFIED:20221022T084440Z
UID:509-1668546000-1668551400@institutluther.com
SUMMARY:Concert Alexis Vassiliev
DESCRIPTION:
URL:https://institutluther.com/event/concert-alexis-vassiliev/
LOCATION:Église luthérienne de l’Ascension\, 47\, rue Dulong\, Paris\, 75017\, France
CATEGORIES:Concerts
ATTACH;FMTTYPE=image/jpeg:https://institutluther.com/wp-content/uploads/2022/10/2022-12-15-AFFICHE-MICHAEL-LEVINAS-WEB-scaled.jpg
END:VEVENT
BEGIN:VEVENT
DTSTART;TZID=Europe/Paris:20221124T190000
DTEND;TZID=Europe/Paris:20221124T200000
DTSTAMP:20260424T161359
CREATED:20221022T084638Z
LAST-MODIFIED:20221022T084638Z
UID:513-1669316400-1669320000@institutluther.com
SUMMARY:Assemblée générale de l'association
DESCRIPTION:
URL:https://institutluther.com/event/assemblee-generale-de-lassociation/
LOCATION:Eglise luthérienne Saint-Marcel\, 24 rue Pierre Nicole\, Paris\, 75005\, France
CATEGORIES:Assemblée Générale
ATTACH;FMTTYPE=image/jpeg:https://institutluther.com/wp-content/uploads/2016/11/LOGO_INSTITUT_MARTIN_LUTHER.jpg
END:VEVENT
END:VCALENDAR