BEGIN:VCALENDAR
VERSION:2.0
PRODID:-//Institut Martin Luther - ECPv6.15.20//NONSGML v1.0//EN
CALSCALE:GREGORIAN
METHOD:PUBLISH
X-WR-CALNAME:Institut Martin Luther
X-ORIGINAL-URL:https://institutluther.com
X-WR-CALDESC:Évènements pour Institut Martin Luther
REFRESH-INTERVAL;VALUE=DURATION:PT1H
X-Robots-Tag:noindex
X-PUBLISHED-TTL:PT1H
BEGIN:VTIMEZONE
TZID:Europe/Paris
BEGIN:DAYLIGHT
TZOFFSETFROM:+0100
TZOFFSETTO:+0200
TZNAME:CEST
DTSTART:20210328T010000
END:DAYLIGHT
BEGIN:STANDARD
TZOFFSETFROM:+0200
TZOFFSETTO:+0100
TZNAME:CET
DTSTART:20211031T010000
END:STANDARD
BEGIN:DAYLIGHT
TZOFFSETFROM:+0100
TZOFFSETTO:+0200
TZNAME:CEST
DTSTART:20220327T010000
END:DAYLIGHT
BEGIN:STANDARD
TZOFFSETFROM:+0200
TZOFFSETTO:+0100
TZNAME:CET
DTSTART:20221030T010000
END:STANDARD
BEGIN:DAYLIGHT
TZOFFSETFROM:+0100
TZOFFSETTO:+0200
TZNAME:CEST
DTSTART:20230326T010000
END:DAYLIGHT
BEGIN:STANDARD
TZOFFSETFROM:+0200
TZOFFSETTO:+0100
TZNAME:CET
DTSTART:20231029T010000
END:STANDARD
END:VTIMEZONE
BEGIN:VEVENT
DTSTART;TZID=Europe/Paris:20221020T190000
DTEND;TZID=Europe/Paris:20221020T201500
DTSTAMP:20260424T150206
CREATED:20220910T095437Z
LAST-MODIFIED:20220910T095437Z
UID:493-1666292400-1666296900@institutluther.com
SUMMARY:Concert Beethoven par Michaël Levinas\, 20 octobre 2022
DESCRIPTION:
URL:https://institutluther.com/event/concert-beethoven-par-michael-levinas-20-octobre-2022/
CATEGORIES:Concerts
ATTACH;FMTTYPE=image/jpeg:https://institutluther.com/wp-content/uploads/2022/09/2022-10-20-Affiche-Levinas-20-octobre-pour-web-scaled.jpg
END:VEVENT
BEGIN:VEVENT
DTSTART;TZID=Europe/Paris:20221025T200000
DTEND;TZID=Europe/Paris:20221025T213000
DTSTAMP:20260424T150206
CREATED:20221022T084338Z
LAST-MODIFIED:20221022T084352Z
UID:506-1666728000-1666733400@institutluther.com
SUMMARY:Concert Alexis Vassiliev
DESCRIPTION:
URL:https://institutluther.com/event/concerts-alexis-vassiliev/
LOCATION:Église luthérienne de l’Ascension\, 47\, rue Dulong\, Paris\, 75017\, France
CATEGORIES:Concerts
ATTACH;FMTTYPE=image/jpeg:https://institutluther.com/wp-content/uploads/2022/10/AFFICHE47158.jpg
END:VEVENT
END:VCALENDAR