BEGIN:VCALENDAR
VERSION:2.0
PRODID:-//Institut Martin Luther - ECPv6.15.20//NONSGML v1.0//EN
CALSCALE:GREGORIAN
METHOD:PUBLISH
X-ORIGINAL-URL:https://institutluther.com
X-WR-CALDESC:Évènements pour Institut Martin Luther
REFRESH-INTERVAL;VALUE=DURATION:PT1H
X-Robots-Tag:noindex
X-PUBLISHED-TTL:PT1H
BEGIN:VTIMEZONE
TZID:Europe/Paris
BEGIN:DAYLIGHT
TZOFFSETFROM:+0100
TZOFFSETTO:+0200
TZNAME:CEST
DTSTART:20190331T010000
END:DAYLIGHT
BEGIN:STANDARD
TZOFFSETFROM:+0200
TZOFFSETTO:+0100
TZNAME:CET
DTSTART:20191027T010000
END:STANDARD
BEGIN:DAYLIGHT
TZOFFSETFROM:+0100
TZOFFSETTO:+0200
TZNAME:CEST
DTSTART:20200329T010000
END:DAYLIGHT
BEGIN:STANDARD
TZOFFSETFROM:+0200
TZOFFSETTO:+0100
TZNAME:CET
DTSTART:20201025T010000
END:STANDARD
BEGIN:DAYLIGHT
TZOFFSETFROM:+0100
TZOFFSETTO:+0200
TZNAME:CEST
DTSTART:20210328T010000
END:DAYLIGHT
BEGIN:STANDARD
TZOFFSETFROM:+0200
TZOFFSETTO:+0100
TZNAME:CET
DTSTART:20211031T010000
END:STANDARD
END:VTIMEZONE
BEGIN:VEVENT
DTSTART;TZID=Europe/Paris:20201012T200000
DTEND;TZID=Europe/Paris:20201012T220000
DTSTAMP:20260425T001806
CREATED:20201005T142914Z
LAST-MODIFIED:20201005T143022Z
UID:382-1602532800-1602540000@institutluther.com
SUMMARY:Concert Michaël Levinas - lundi 12 octobre à 20h
DESCRIPTION:
URL:https://institutluther.com/event/concert-michael-levinas-mardi-12-octobre-a-20h/
LOCATION:Eglise luthérienne Saint-Marcel\, 24 rue Pierre Nicole\, Paris\, 75005\, France
CATEGORIES:Concerts
ATTACH;FMTTYPE=image/png:https://institutluther.com/wp-content/uploads/2020/02/Levinas.png
ORGANIZER;CN="Institut Culturel Martin Luther":MAILTO:institut.luther@gmail.com
END:VEVENT
END:VCALENDAR