BEGIN:VCALENDAR
VERSION:2.0
PRODID:-//Institut Martin Luther - ECPv6.15.20//NONSGML v1.0//EN
CALSCALE:GREGORIAN
METHOD:PUBLISH
X-WR-CALNAME:Institut Martin Luther
X-ORIGINAL-URL:https://institutluther.com
X-WR-CALDESC:Évènements pour Institut Martin Luther
REFRESH-INTERVAL;VALUE=DURATION:PT1H
X-Robots-Tag:noindex
X-PUBLISHED-TTL:PT1H
BEGIN:VTIMEZONE
TZID:Europe/Paris
BEGIN:DAYLIGHT
TZOFFSETFROM:+0100
TZOFFSETTO:+0200
TZNAME:CEST
DTSTART:20220327T010000
END:DAYLIGHT
BEGIN:STANDARD
TZOFFSETFROM:+0200
TZOFFSETTO:+0100
TZNAME:CET
DTSTART:20221030T010000
END:STANDARD
BEGIN:DAYLIGHT
TZOFFSETFROM:+0100
TZOFFSETTO:+0200
TZNAME:CEST
DTSTART:20230326T010000
END:DAYLIGHT
BEGIN:STANDARD
TZOFFSETFROM:+0200
TZOFFSETTO:+0100
TZNAME:CET
DTSTART:20231029T010000
END:STANDARD
BEGIN:DAYLIGHT
TZOFFSETFROM:+0100
TZOFFSETTO:+0200
TZNAME:CEST
DTSTART:20240331T010000
END:DAYLIGHT
BEGIN:STANDARD
TZOFFSETFROM:+0200
TZOFFSETTO:+0100
TZNAME:CET
DTSTART:20241027T010000
END:STANDARD
BEGIN:DAYLIGHT
TZOFFSETFROM:+0100
TZOFFSETTO:+0200
TZNAME:CEST
DTSTART:20250330T010000
END:DAYLIGHT
BEGIN:STANDARD
TZOFFSETFROM:+0200
TZOFFSETTO:+0100
TZNAME:CET
DTSTART:20251026T010000
END:STANDARD
BEGIN:DAYLIGHT
TZOFFSETFROM:+0100
TZOFFSETTO:+0200
TZNAME:CEST
DTSTART:20260329T010000
END:DAYLIGHT
BEGIN:STANDARD
TZOFFSETFROM:+0200
TZOFFSETTO:+0100
TZNAME:CET
DTSTART:20261025T010000
END:STANDARD
BEGIN:DAYLIGHT
TZOFFSETFROM:+0100
TZOFFSETTO:+0200
TZNAME:CEST
DTSTART:20270328T010000
END:DAYLIGHT
BEGIN:STANDARD
TZOFFSETFROM:+0200
TZOFFSETTO:+0100
TZNAME:CET
DTSTART:20271031T010000
END:STANDARD
END:VTIMEZONE
BEGIN:VEVENT
DTSTART;TZID=Europe/Paris:20260416T190000
DTEND;TZID=Europe/Paris:20260416T210000
DTSTAMP:20260424T171006
CREATED:20260326T162524Z
LAST-MODIFIED:20260326T162524Z
UID:865-1776366000-1776373200@institutluther.com
SUMMARY:Premier concert de l'intégrale Bach pour clavier\, Jorge García Herranz\, piano
DESCRIPTION:
URL:https://institutluther.com/event/premier-concert-de-lintegrale-bach-pour-clavier-jorge-garcia-herranz-piano/
LOCATION:Eglise luthérienne Saint-Marcel\, 24 rue Pierre Nicole\, Paris\, 75005\, France
CATEGORIES:Concerts
ATTACH;FMTTYPE=image/png:https://institutluther.com/wp-content/uploads/2026/03/2026-04-16-CONCERTS-CLAVIER-BACH.png
END:VEVENT
BEGIN:VEVENT
DTSTART;TZID=Europe/Paris:20260409T190000
DTEND;TZID=Europe/Paris:20260409T210000
DTSTAMP:20260424T171006
CREATED:20260326T151056Z
LAST-MODIFIED:20260326T151056Z
UID:860-1775761200-1775768400@institutluther.com
SUMMARY:Concert du Stimmung Trio
DESCRIPTION:
URL:https://institutluther.com/event/concert-du-stimmung-trio/
LOCATION:Eglise luthérienne Saint-Marcel\, 24 rue Pierre Nicole\, Paris\, 75005\, France
CATEGORIES:Concerts
ATTACH;FMTTYPE=image/png:https://institutluther.com/wp-content/uploads/2026/03/2026-04-09-AFFICHE-STIMMUNG-TRIO.png
END:VEVENT
BEGIN:VEVENT
DTSTART;TZID=Europe/Paris:20260326T190000
DTEND;TZID=Europe/Paris:20260326T203000
DTSTAMP:20260424T171006
CREATED:20260302T162558Z
LAST-MODIFIED:20260302T162558Z
UID:844-1774551600-1774557000@institutluther.com
SUMMARY:Concert Michaël Levinas
DESCRIPTION:
URL:https://institutluther.com/event/concert-michael-levinas-2/
LOCATION:Eglise luthérienne Saint-Marcel\, 24 rue Pierre Nicole\, Paris\, 75005\, France
ATTACH;FMTTYPE=image/png:https://institutluther.com/wp-content/uploads/2026/03/2026-03-26-CONCERT-LEVINAS-Affiche.png
END:VEVENT
BEGIN:VEVENT
DTSTART;TZID=Europe/Paris:20260314T150000
DTEND;TZID=Europe/Paris:20260314T163000
DTSTAMP:20260424T171006
CREATED:20260302T162641Z
LAST-MODIFIED:20260302T162649Z
UID:846-1773500400-1773505800@institutluther.com
SUMMARY:Présentation du concert de psaumes et cantiques de la Réforme
DESCRIPTION:
URL:https://institutluther.com/event/presentation-du-concert-de-psaumes-et-cantiques-de-la-reforme/
CATEGORIES:Concerts
ATTACH;FMTTYPE=image/jpeg:https://institutluther.com/wp-content/uploads/2026/03/2026-03-22-AFFICHE-FOYER-de-lAME-JPG-scaled.jpg
END:VEVENT
BEGIN:VEVENT
DTSTART;TZID=Europe/Paris:20260223T080000
DTEND;TZID=Europe/Paris:20260224T170000
DTSTAMP:20260424T171006
CREATED:20260128T175934Z
LAST-MODIFIED:20260128T180023Z
UID:833-1771833600-1771952400@institutluther.com
SUMMARY:Communication du pasteur Alain Joly au colloque "Le Sola Scriptura a-t-il encore un sens ?"
DESCRIPTION:AU CENTRE D’ACCUEIL SPIRITAIN\n12 RUE PÈRE MAZURÉ\n94550 CHEVILLY-LARUE
URL:https://institutluther.com/event/communication-du-pasteur-alain-joly-au-colloque-le-sola-scriptura-a-t-il-encore-un-sens/
END:VEVENT
BEGIN:VEVENT
DTSTART;TZID=Europe/Paris:20260208T140000
DTEND;TZID=Europe/Paris:20260208T180000
DTSTAMP:20260424T171006
CREATED:20260128T175608Z
LAST-MODIFIED:20260128T175608Z
UID:830-1770559200-1770573600@institutluther.com
SUMMARY:Le pasteur Alain Joly dédicacera ses livres au salon « Lire en Vexin » le dimanche 8 février
DESCRIPTION:
URL:https://institutluther.com/event/le-pasteur-alain-joly-dedicacera-ses-livres-au-salon-lire-en-vexin-le-dimanche-8-fevrier/
ATTACH;FMTTYPE=image/jpeg:https://institutluther.com/wp-content/uploads/2026/01/89a74d60-a766-408b-a380-8bc4aaf67d7a.png-bleu.jpg
END:VEVENT
BEGIN:VEVENT
DTSTART;TZID=Europe/Paris:20260129T190000
DTEND;TZID=Europe/Paris:20260129T203000
DTSTAMP:20260424T171006
CREATED:20260128T174922Z
LAST-MODIFIED:20260128T174922Z
UID:822-1769713200-1769718600@institutluther.com
SUMMARY:Concert Michaël Levinas jeudi 29 janvier 2026
DESCRIPTION:
URL:https://institutluther.com/event/concert-michael-levinas-jeudi-29-janvier-2026/
LOCATION:Eglise luthérienne Saint-Marcel\, 24 rue Pierre Nicole\, Paris\, 75005\, France
ATTACH;FMTTYPE=image/png:https://institutluther.com/wp-content/uploads/2026/01/2026-01-29-CONCERT-LEVINAS-Affiche.png
END:VEVENT
BEGIN:VEVENT
DTSTART;TZID=Europe/Paris:20251206T180000
DTEND;TZID=Europe/Paris:20251206T220000
DTSTAMP:20260424T171006
CREATED:20250905T174827Z
LAST-MODIFIED:20250905T174827Z
UID:802-1765044000-1765058400@institutluther.com
SUMMARY:Bach : l'intégrale des Sonates et Partitas pour violon seul\, par Saskia Lethiec\, présentées par le pasteur Alain Joly
DESCRIPTION:
URL:https://institutluther.com/event/bach-lintegrale-des-sonates-et-partitas-pour-violon-seul-par-saskia-lethiec-presentees-par-le-pasteur-alain-joly/
CATEGORIES:Concerts
ATTACH;FMTTYPE=image/png:https://institutluther.com/wp-content/uploads/2025/09/2025-12-CONCERT-6-DECEMBRE.png
END:VEVENT
BEGIN:VEVENT
DTSTART;TZID=Europe/Paris:20251127T190000
DTEND;TZID=Europe/Paris:20251127T203000
DTSTAMP:20260424T171006
CREATED:20250905T174609Z
LAST-MODIFIED:20250905T174609Z
UID:797-1764270000-1764275400@institutluther.com
SUMMARY:Cycle Résonances\, le piano-espace. Quatre concerts de Michaël Levinas
DESCRIPTION:
URL:https://institutluther.com/event/cycle-resonances-le-piano-espace-quatre-concerts-de-michael-levinas/
CATEGORIES:Concerts
ATTACH;FMTTYPE=image/jpeg:https://institutluther.com/wp-content/uploads/2025/09/2025-09-AFFICHE-PROGRAMME-CONCERT-LEVINAS-scaled.jpg
END:VEVENT
BEGIN:VEVENT
DTSTART;TZID=Europe/Paris:20250920T150000
DTEND;TZID=Europe/Paris:20250920T163000
DTSTAMP:20260424T171006
CREATED:20250905T174326Z
LAST-MODIFIED:20250905T174326Z
UID:790-1758380400-1758385800@institutluther.com
SUMMARY:Histoire du protestantisme à Senneville : conférence du pasteur Alain Joly à Mantes-la-Jolie le samedi 20 septembre 2025 à 15h
DESCRIPTION:
URL:https://institutluther.com/event/histoire-du-protestantisme-a-senneville-conference-du-pasteur-alain-joly-a-mantes-la-jolie-le-samedi-20-septembre-2025-a-15h/
CATEGORIES:Conférences
ATTACH;FMTTYPE=image/png:https://institutluther.com/wp-content/uploads/2025/09/2025-09-20-CONFERENCE-MANTES-LA-JOLIE-1.png
END:VEVENT
BEGIN:VEVENT
DTSTART;TZID=Europe/Paris:20250717T190000
DTEND;TZID=Europe/Paris:20250717T203000
DTSTAMP:20260424T171006
CREATED:20250412T102020Z
LAST-MODIFIED:20250619T143741Z
UID:740-1752778800-1752784200@institutluther.com
SUMMARY:Concert de Michaël Levinas : suite du cycle Filiations le 17 juillet
DESCRIPTION:
URL:https://institutluther.com/event/concert-de-michael-levinas-suite-du-cycle-filiations-le-12-juin/
LOCATION:Eglise luthérienne Saint-Marcel\, 24 rue Pierre Nicole\, Paris\, 75005\, France
CATEGORIES:Concerts
ATTACH;FMTTYPE=image/png:https://institutluther.com/wp-content/uploads/2025/04/2025-07-17-CONCERT-LEVINAS-1.png
END:VEVENT
BEGIN:VEVENT
DTSTART;TZID=Europe/Paris:20250522T190000
DTEND;TZID=Europe/Paris:20250522T203000
DTSTAMP:20260424T171006
CREATED:20250412T101953Z
LAST-MODIFIED:20250412T101953Z
UID:738-1747940400-1747945800@institutluther.com
SUMMARY:Concert de Michaël Levinas : suite du cycle Filiations le 22 mai
DESCRIPTION:
URL:https://institutluther.com/event/concert-de-michael-levinas-suite-du-cycle-filiations-le-22-mai/
LOCATION:Eglise luthérienne Saint-Marcel\, 24 rue Pierre Nicole\, Paris\, 75005\, France
CATEGORIES:Concerts
ATTACH;FMTTYPE=image/png:https://institutluther.com/wp-content/uploads/2025/04/2025-05-22-CONCERT-LEVINAS.png
END:VEVENT
BEGIN:VEVENT
DTSTART;TZID=Europe/Paris:20250515T200000
DTEND;TZID=Europe/Paris:20250515T213000
DTSTAMP:20260424T171007
CREATED:20250512T164239Z
LAST-MODIFIED:20250512T164239Z
UID:777-1747339200-1747344600@institutluther.com
SUMMARY:Concert "Lieder"\, Carles Lama & Sofia Cabruja\, piano à quatre mains — Cycle "Bach avec..."
DESCRIPTION:
URL:https://institutluther.com/event/concert-lieder-carles-lama-sofia-cabruja-piano-a-quatre-mains-cycle-bach-avec/
LOCATION:Eglise luthérienne Saint-Marcel\, 24 rue Pierre Nicole\, Paris\, 75005\, France
CATEGORIES:Concerts
ATTACH;FMTTYPE=image/jpeg:https://institutluther.com/wp-content/uploads/2025/05/WhatsApp-Image-2025-05-12-a-18.38.15_0b61e553.jpg
END:VEVENT
BEGIN:VEVENT
DTSTART;TZID=Europe/Paris:20250503T170000
DTEND;TZID=Europe/Paris:20250503T190000
DTSTAMP:20260424T171007
CREATED:20250412T101907Z
LAST-MODIFIED:20250412T101907Z
UID:736-1746291600-1746298800@institutluther.com
SUMMARY:Meaux : conférence du pasteur Alain Joly "La spiritualité dans la vie et l'œuvre de Jean-Sébastien Bach"
DESCRIPTION:
URL:https://institutluther.com/event/meaux-conference-du-pasteur-alain-joly-la-spiritualite-dans-la-vie-et-loeuvre-de-jean-sebastien-bach/
CATEGORIES:Conférences
ATTACH;FMTTYPE=image/png:https://institutluther.com/wp-content/uploads/2025/04/2025-04-AFFICHE-CONFERENCE-MEAUX.png
END:VEVENT
BEGIN:VEVENT
DTSTART;TZID=Europe/Paris:20250327T200000
DTEND;TZID=Europe/Paris:20250327T213000
DTSTAMP:20260424T171007
CREATED:20250227T180815Z
LAST-MODIFIED:20250227T180815Z
UID:706-1743105600-1743111000@institutluther.com
SUMMARY:Concert Patrick Oliva\, violon
DESCRIPTION:
URL:https://institutluther.com/event/concert-patrick-oliva-violon/
LOCATION:Eglise luthérienne Saint-Marcel\, 24 rue Pierre Nicole\, Paris\, 75005\, France
CATEGORIES:Concerts
ATTACH;FMTTYPE=image/png:https://institutluther.com/wp-content/uploads/2025/02/2025-02-CONCERT-27-MARS.png
END:VEVENT
BEGIN:VEVENT
DTSTART;TZID=Europe/Paris:20250322T190000
DTEND;TZID=Europe/Paris:20250322T203000
DTSTAMP:20260424T171007
CREATED:20250227T181250Z
LAST-MODIFIED:20250227T181250Z
UID:714-1742670000-1742675400@institutluther.com
SUMMARY:Concert en hommage au poète Eric Auvray samedi 22 mars à 19h
DESCRIPTION:
URL:https://institutluther.com/event/concert-en-hommage-au-poete-eric-auvray-samedi-22-mars-a-19h/
LOCATION:Eglise luthérienne Saint-Marcel\, 24 rue Pierre Nicole\, Paris\, 75005\, France
CATEGORIES:Concerts
ATTACH;FMTTYPE=image/png:https://institutluther.com/wp-content/uploads/2025/02/Musique-et-Poesie-22-mars-2025.png
END:VEVENT
BEGIN:VEVENT
DTSTART;TZID=Europe/Paris:20250320T190000
DTEND;TZID=Europe/Paris:20250320T203000
DTSTAMP:20260424T171007
CREATED:20250227T180900Z
LAST-MODIFIED:20250227T180919Z
UID:708-1742497200-1742502600@institutluther.com
SUMMARY:Concert Beethoven par le Stimmung Trio
DESCRIPTION:Dans le cadre de l’intégrale des trios de Beethoven
URL:https://institutluther.com/event/concert-beethoven-par-le-stimmung-trio/
LOCATION:Eglise luthérienne Saint-Marcel\, 24 rue Pierre Nicole\, Paris\, 75005\, France
CATEGORIES:Concerts
ATTACH;FMTTYPE=image/png:https://institutluther.com/wp-content/uploads/2025/02/2025-02-AFFICHE-STIMMUNG-TRIO.png
END:VEVENT
BEGIN:VEVENT
DTSTART;TZID=Europe/Paris:20250313T200000
DTEND;TZID=Europe/Paris:20250313T213000
DTSTAMP:20260424T171007
CREATED:20250227T181839Z
LAST-MODIFIED:20250227T181857Z
UID:722-1741896000-1741901400@institutluther.com
SUMMARY:Concert "Bach avec..." jeudi 13 mars 2025 à 20 h
DESCRIPTION:www.bachavec.com
URL:https://institutluther.com/event/concert-bach-avec-jeudi-13-mars-2025-a-20-h/
LOCATION:Eglise luthérienne Saint-Marcel\, 24 rue Pierre Nicole\, Paris\, 75005\, France
CATEGORIES:Concerts
ATTACH;FMTTYPE=image/jpeg:https://institutluther.com/wp-content/uploads/2025/02/Concert-Bachavec.-13-mars-2025.jpg
END:VEVENT
BEGIN:VEVENT
DTSTART;TZID=Europe/Paris:20241121T200000
DTEND;TZID=Europe/Paris:20241121T213000
DTSTAMP:20260424T171007
CREATED:20241010T152707Z
LAST-MODIFIED:20241010T152707Z
UID:697-1732219200-1732224600@institutluther.com
SUMMARY:Bach\, l'intégrale des Suites pour violoncelle\, Valérie Aimard
DESCRIPTION:Deuxième soirée
URL:https://institutluther.com/event/bach-lintegrale-des-suites-pour-violoncelle-valerie-aimard-2/
LOCATION:Eglise luthérienne Saint-Marcel\, 24 rue Pierre Nicole\, Paris\, 75005\, France
CATEGORIES:Concerts
ATTACH;FMTTYPE=image/png:https://institutluther.com/wp-content/uploads/2024/10/2024-11-CONCERTS-en-NOVEMBRE.png
END:VEVENT
BEGIN:VEVENT
DTSTART;TZID=Europe/Paris:20241107T200000
DTEND;TZID=Europe/Paris:20241107T213000
DTSTAMP:20260424T171007
CREATED:20241010T152623Z
LAST-MODIFIED:20241010T152623Z
UID:695-1731009600-1731015000@institutluther.com
SUMMARY:Bach\, l'intégrale des Suites pour violoncelle\, Valérie Aimard
DESCRIPTION:
URL:https://institutluther.com/event/bach-lintegrale-des-suites-pour-violoncelle-valerie-aimard/
LOCATION:Eglise luthérienne Saint-Marcel\, 24 rue Pierre Nicole\, Paris\, 75005\, France
CATEGORIES:Concerts
ATTACH;FMTTYPE=image/png:https://institutluther.com/wp-content/uploads/2024/10/2024-11-CONCERTS-en-NOVEMBRE.png
END:VEVENT
BEGIN:VEVENT
DTSTART;TZID=Europe/Paris:20240516T200000
DTEND;TZID=Europe/Paris:20240516T213000
DTSTAMP:20260424T171007
CREATED:20231125T162432Z
LAST-MODIFIED:20231125T162521Z
UID:624-1715889600-1715895000@institutluther.com
SUMMARY:Concert "Bach avec" : "Chaconne" (Stéphanie-Marie Degand\, violon)
DESCRIPTION:www.bachavec.com
URL:https://institutluther.com/event/concert-bach-avec-chaconne/
LOCATION:Eglise luthérienne Saint-Marcel\, 24 rue Pierre Nicole\, Paris\, 75005\, France
CATEGORIES:Concerts
ATTACH;FMTTYPE=image/jpeg:https://institutluther.com/wp-content/uploads/2023/10/Bach-avec-2.jpg
END:VEVENT
BEGIN:VEVENT
DTSTART;TZID=Europe/Paris:20240425T190000
DTEND;TZID=Europe/Paris:20240425T203000
DTSTAMP:20260424T171007
CREATED:20231125T163108Z
LAST-MODIFIED:20231125T163108Z
UID:627-1714071600-1714077000@institutluther.com
SUMMARY:Concert Le Clavier bien tempéré\, Michaël Levinas
DESCRIPTION:
URL:https://institutluther.com/event/concert-le-clavier-bien-tempere-michael-levinas/
LOCATION:Eglise luthérienne Saint-Marcel\, 24 rue Pierre Nicole\, Paris\, 75005\, France
CATEGORIES:Concerts
ATTACH;FMTTYPE=image/jpeg:https://institutluther.com/wp-content/uploads/2023/09/Michael-Levinas.jpeg
END:VEVENT
BEGIN:VEVENT
DTSTART;TZID=Europe/Paris:20240404T200000
DTEND;TZID=Europe/Paris:20240404T213000
DTSTAMP:20260424T171007
CREATED:20231125T162352Z
LAST-MODIFIED:20231125T162352Z
UID:622-1712260800-1712266200@institutluther.com
SUMMARY:Concert "Bach avec" : "Toccata" (Sandro de Palma\, piano)
DESCRIPTION:www.bachavec.com
URL:https://institutluther.com/event/concert-bach-avec-toccata-sandro-de-palma-piano/
LOCATION:Eglise luthérienne Saint-Marcel\, 24 rue Pierre Nicole\, Paris\, 75005\, France
CATEGORIES:Concerts
ATTACH;FMTTYPE=image/jpeg:https://institutluther.com/wp-content/uploads/2023/10/Bach-avec-2.jpg
END:VEVENT
BEGIN:VEVENT
DTSTART;TZID=Europe/Paris:20240314T200000
DTEND;TZID=Europe/Paris:20240314T213000
DTSTAMP:20260424T171007
CREATED:20231125T162248Z
LAST-MODIFIED:20231125T162248Z
UID:620-1710446400-1710451800@institutluther.com
SUMMARY:Concert "Bach avec" : "Diabolus in Espana" (Antonio Soria\, piano)
DESCRIPTION:www.bachavec.com
URL:https://institutluther.com/event/concert-bach-avec-diabolus-in-espana-antonio-soria-piano/
LOCATION:Eglise luthérienne Saint-Marcel\, 24 rue Pierre Nicole\, Paris\, 75005\, France
CATEGORIES:Concerts
ATTACH;FMTTYPE=image/jpeg:https://institutluther.com/wp-content/uploads/2023/10/Bach-avec-2.jpg
END:VEVENT
BEGIN:VEVENT
DTSTART;TZID=Europe/Paris:20240307T190000
DTEND;TZID=Europe/Paris:20240307T203000
DTSTAMP:20260424T171007
CREATED:20230906T170252Z
LAST-MODIFIED:20231216T163327Z
UID:575-1709838000-1709843400@institutluther.com
SUMMARY:Concert Le Clavier bien tempéré\, Michaël Levinas
DESCRIPTION:
URL:https://institutluther.com/event/concert-le-clavier-bien-tempere-michael-levinas-4/
LOCATION:Eglise luthérienne Saint-Marcel\, 24 rue Pierre Nicole\, Paris\, 75005\, France
CATEGORIES:Concerts
ATTACH;FMTTYPE=image/png:https://institutluther.com/wp-content/uploads/2023/12/2023-03-07-AFFICHE-LEVINAS-BACH-MARS-1.png
ORGANIZER;CN="Institut Culturel Martin Luther":MAILTO:institut.luther@gmail.com
END:VEVENT
BEGIN:VEVENT
DTSTART;TZID=Europe/Paris:20240229T200000
DTEND;TZID=Europe/Paris:20240229T213000
DTSTAMP:20260424T171007
CREATED:20231125T162111Z
LAST-MODIFIED:20231125T162724Z
UID:618-1709236800-1709242200@institutluther.com
SUMMARY:Concert "Bach avec" : "Le goût italien" (piano à quatre mains)
DESCRIPTION:www.bachavec.com
URL:https://institutluther.com/event/concert-bach-avec-le-gout-italien-piano-a-quatre-mains/
LOCATION:Eglise luthérienne Saint-Marcel\, 24 rue Pierre Nicole\, Paris\, 75005\, France
CATEGORIES:Concerts
ATTACH;FMTTYPE=image/jpeg:https://institutluther.com/wp-content/uploads/2023/10/Bach-avec-2.jpg
END:VEVENT
BEGIN:VEVENT
DTSTART;TZID=Europe/Paris:20240125T200000
DTEND;TZID=Europe/Paris:20240125T213000
DTSTAMP:20260424T171007
CREATED:20231125T162015Z
LAST-MODIFIED:20231216T162746Z
UID:616-1706212800-1706218200@institutluther.com
SUMMARY:Concert "Bach avec" : "L'art de la variation" (Ingmar Lazar\, piano)
DESCRIPTION:www.bachavec.com
URL:https://institutluther.com/event/concert-bach-avec-lart-de-la-variation-ingmar-lazar-piano/
LOCATION:Eglise luthérienne Saint-Marcel\, 24 rue Pierre Nicole\, Paris\, 75005\, France
CATEGORIES:Concerts
ATTACH;FMTTYPE=image/jpeg:https://institutluther.com/wp-content/uploads/2023/12/Affichette_Bachavec_2024-01-25.jpg
END:VEVENT
BEGIN:VEVENT
DTSTART;TZID=Europe/Paris:20240111T190000
DTEND;TZID=Europe/Paris:20240111T203000
DTSTAMP:20260424T171007
CREATED:20230906T170142Z
LAST-MODIFIED:20230906T170142Z
UID:573-1704999600-1705005000@institutluther.com
SUMMARY:Concert Le Clavier bien tempéré\, Michaël Levinas
DESCRIPTION:
URL:https://institutluther.com/event/concert-le-clavier-bien-tempere-michael-levinas-3/
LOCATION:Eglise luthérienne Saint-Marcel\, 24 rue Pierre Nicole\, Paris\, 75005\, France
CATEGORIES:Concerts
ORGANIZER;CN="Institut Culturel Martin Luther":MAILTO:institut.luther@gmail.com
END:VEVENT
BEGIN:VEVENT
DTSTART;TZID=Europe/Paris:20231214T200000
DTEND;TZID=Europe/Paris:20231214T213000
DTSTAMP:20260424T171007
CREATED:20231125T161900Z
LAST-MODIFIED:20231125T161922Z
UID:612-1702584000-1702589400@institutluther.com
SUMMARY:Concert "Bach avec" : "L'amour du chant" (Schubert et Brahms\, piano à quatre mains)
DESCRIPTION:www.bachavec.com
URL:https://institutluther.com/event/concert-bach-avec-lamour-du-chant-schubert-et-brahms-piano-a-quatre-mains/
LOCATION:Eglise luthérienne Saint-Marcel\, 24 rue Pierre Nicole\, Paris\, 75005\, France
CATEGORIES:Concerts
ATTACH;FMTTYPE=image/jpeg:https://institutluther.com/wp-content/uploads/2023/10/Bach-avec-2.jpg
END:VEVENT
BEGIN:VEVENT
DTSTART;TZID=Europe/Paris:20231130T190000
DTEND;TZID=Europe/Paris:20231130T203000
DTSTAMP:20260424T171007
CREATED:20230906T170056Z
LAST-MODIFIED:20230906T170056Z
UID:570-1701370800-1701376200@institutluther.com
SUMMARY:Concert Le Clavier bien tempéré\, Michaël Levinas
DESCRIPTION:
URL:https://institutluther.com/event/concert-le-clavier-bien-tempere-michael-levinas-2/
LOCATION:Eglise luthérienne Saint-Marcel\, 24 rue Pierre Nicole\, Paris\, 75005\, France
CATEGORIES:Concerts
ATTACH;FMTTYPE=image/jpeg:https://institutluther.com/wp-content/uploads/2023/09/Michael-Levinas.jpeg
ORGANIZER;CN="Institut Culturel Martin Luther":MAILTO:institut.luther@gmail.com
END:VEVENT
END:VCALENDAR