BEGIN:VCALENDAR
VERSION:2.0
PRODID:-//Institut Martin Luther - ECPv6.15.20//NONSGML v1.0//EN
CALSCALE:GREGORIAN
METHOD:PUBLISH
X-ORIGINAL-URL:https://institutluther.com
X-WR-CALDESC:Évènements pour Institut Martin Luther
REFRESH-INTERVAL;VALUE=DURATION:PT1H
X-Robots-Tag:noindex
X-PUBLISHED-TTL:PT1H
BEGIN:VTIMEZONE
TZID:Europe/Paris
BEGIN:DAYLIGHT
TZOFFSETFROM:+0100
TZOFFSETTO:+0200
TZNAME:CEST
DTSTART:20160327T010000
END:DAYLIGHT
BEGIN:STANDARD
TZOFFSETFROM:+0200
TZOFFSETTO:+0100
TZNAME:CET
DTSTART:20161030T010000
END:STANDARD
BEGIN:DAYLIGHT
TZOFFSETFROM:+0100
TZOFFSETTO:+0200
TZNAME:CEST
DTSTART:20170326T010000
END:DAYLIGHT
BEGIN:STANDARD
TZOFFSETFROM:+0200
TZOFFSETTO:+0100
TZNAME:CET
DTSTART:20171029T010000
END:STANDARD
BEGIN:DAYLIGHT
TZOFFSETFROM:+0100
TZOFFSETTO:+0200
TZNAME:CEST
DTSTART:20180325T010000
END:DAYLIGHT
BEGIN:STANDARD
TZOFFSETFROM:+0200
TZOFFSETTO:+0100
TZNAME:CET
DTSTART:20181028T010000
END:STANDARD
END:VTIMEZONE
BEGIN:VEVENT
DTSTART;TZID=Europe/Paris:20170916T203000
DTEND;TZID=Europe/Paris:20170916T223000
DTSTAMP:20260425T230242
CREATED:20170914T171818Z
LAST-MODIFIED:20170914T172208Z
UID:214-1505593800-1505601000@institutluther.com
SUMMARY:Oblique
DESCRIPTION:Chers amis\, \nl’Institut culturel Martin Luther\, pour lequel\, à sa création l’année dernière\, vous avez marqué votre intérêt\,\nparraine la performance musicale et chorégraphique donnée samedi 16 septembre\, à 20h30\,\nà l’église luthérienne de l’Ascension\, 47 rue Dulong\, Paris 17è (cf les fichiers joints). \n\nNous serons heureux de vous y retrouver.
URL:https://institutluther.com/event/oblique/
LOCATION:Église luthérienne de l’Ascension\, 47\, rue Dulong\, Paris\, 75017\, France
CATEGORIES:Concerts,Spectacles
ATTACH;FMTTYPE=image/jpeg:https://institutluther.com/wp-content/uploads/2017/09/20451614_1616836671722076_3866683131326352714_o.jpg
END:VEVENT
END:VCALENDAR