BEGIN:VCALENDAR
VERSION:2.0
PRODID:-//Institut Martin Luther - ECPv6.15.20//NONSGML v1.0//EN
CALSCALE:GREGORIAN
METHOD:PUBLISH
X-ORIGINAL-URL:https://institutluther.com
X-WR-CALDESC:Évènements pour Institut Martin Luther
REFRESH-INTERVAL;VALUE=DURATION:PT1H
X-Robots-Tag:noindex
X-PUBLISHED-TTL:PT1H
BEGIN:VTIMEZONE
TZID:Europe/Paris
BEGIN:DAYLIGHT
TZOFFSETFROM:+0100
TZOFFSETTO:+0200
TZNAME:CEST
DTSTART:20250330T010000
END:DAYLIGHT
BEGIN:STANDARD
TZOFFSETFROM:+0200
TZOFFSETTO:+0100
TZNAME:CET
DTSTART:20251026T010000
END:STANDARD
BEGIN:DAYLIGHT
TZOFFSETFROM:+0100
TZOFFSETTO:+0200
TZNAME:CEST
DTSTART:20260329T010000
END:DAYLIGHT
BEGIN:STANDARD
TZOFFSETFROM:+0200
TZOFFSETTO:+0100
TZNAME:CET
DTSTART:20261025T010000
END:STANDARD
BEGIN:DAYLIGHT
TZOFFSETFROM:+0100
TZOFFSETTO:+0200
TZNAME:CEST
DTSTART:20270328T010000
END:DAYLIGHT
BEGIN:STANDARD
TZOFFSETFROM:+0200
TZOFFSETTO:+0100
TZNAME:CET
DTSTART:20271031T010000
END:STANDARD
END:VTIMEZONE
BEGIN:VEVENT
DTSTART;TZID=Europe/Paris:20260604T190000
DTEND;TZID=Europe/Paris:20260604T210000
DTSTAMP:20260424T154048
CREATED:20260423T160521Z
LAST-MODIFIED:20260423T160521Z
UID:879-1780599600-1780606800@institutluther.com
SUMMARY:Voltaire rencontre Bach\, divertissement en un acte et en musique le jeudi 4 juin 2026 à 19h
DESCRIPTION:
URL:https://institutluther.com/event/voltaire-rencontre-bach-divertissement-en-un-acte-et-en-musique-le-jeudi-4-juin-2026-a-19h/
LOCATION:Eglise luthérienne Saint-Marcel\, 24 rue Pierre Nicole\, Paris\, 75005\, France
CATEGORIES:Concerts
ATTACH;FMTTYPE=image/png:https://institutluther.com/wp-content/uploads/2026/04/2026-06-04-voltaire-rencontre-bach.png
END:VEVENT
END:VCALENDAR