BEGIN:VCALENDAR
VERSION:2.0
PRODID:-//Institut Martin Luther - ECPv6.15.20//NONSGML v1.0//EN
CALSCALE:GREGORIAN
METHOD:PUBLISH
X-ORIGINAL-URL:https://institutluther.com
X-WR-CALDESC:Évènements pour Institut Martin Luther
REFRESH-INTERVAL;VALUE=DURATION:PT1H
X-Robots-Tag:noindex
X-PUBLISHED-TTL:PT1H
BEGIN:VTIMEZONE
TZID:Europe/Paris
BEGIN:DAYLIGHT
TZOFFSETFROM:+0100
TZOFFSETTO:+0200
TZNAME:CEST
DTSTART:20230326T010000
END:DAYLIGHT
BEGIN:STANDARD
TZOFFSETFROM:+0200
TZOFFSETTO:+0100
TZNAME:CET
DTSTART:20231029T010000
END:STANDARD
BEGIN:DAYLIGHT
TZOFFSETFROM:+0100
TZOFFSETTO:+0200
TZNAME:CEST
DTSTART:20240331T010000
END:DAYLIGHT
BEGIN:STANDARD
TZOFFSETFROM:+0200
TZOFFSETTO:+0100
TZNAME:CET
DTSTART:20241027T010000
END:STANDARD
BEGIN:DAYLIGHT
TZOFFSETFROM:+0100
TZOFFSETTO:+0200
TZNAME:CEST
DTSTART:20250330T010000
END:DAYLIGHT
BEGIN:STANDARD
TZOFFSETFROM:+0200
TZOFFSETTO:+0100
TZNAME:CET
DTSTART:20251026T010000
END:STANDARD
END:VTIMEZONE
BEGIN:VEVENT
DTSTART;TZID=Europe/Paris:20240307T190000
DTEND;TZID=Europe/Paris:20240307T203000
DTSTAMP:20260424T180247
CREATED:20230906T170252Z
LAST-MODIFIED:20231216T163327Z
UID:575-1709838000-1709843400@institutluther.com
SUMMARY:Concert Le Clavier bien tempéré\, Michaël Levinas
DESCRIPTION:
URL:https://institutluther.com/event/concert-le-clavier-bien-tempere-michael-levinas-4/
LOCATION:Eglise luthérienne Saint-Marcel\, 24 rue Pierre Nicole\, Paris\, 75005\, France
CATEGORIES:Concerts
ATTACH;FMTTYPE=image/png:https://institutluther.com/wp-content/uploads/2023/12/2023-03-07-AFFICHE-LEVINAS-BACH-MARS-1.png
ORGANIZER;CN="Institut Culturel Martin Luther":MAILTO:institut.luther@gmail.com
END:VEVENT
END:VCALENDAR