BEGIN:VCALENDAR
VERSION:2.0
PRODID:-//Institut Martin Luther - ECPv4.3.3//NONSGML v1.0//EN
CALSCALE:GREGORIAN
METHOD:PUBLISH
X-WR-CALNAME:Institut Martin Luther
X-ORIGINAL-URL:http://institutluther.com
X-WR-CALDESC:Events for Institut Martin Luther
BEGIN:VEVENT
DTSTART;TZID=Europe/Paris:20240229T200000
DTEND;TZID=Europe/Paris:20240229T213000
DTSTAMP:20260424T042823
CREATED:20231125T162111Z
LAST-MODIFIED:20231125T162724Z
UID:618-1709236800-1709242200@institutluther.com
SUMMARY:Concert "Bach avec" : "Le goût italien" (piano à quatre mains)
DESCRIPTION:www.bachavec.com
URL:http://institutluther.com/event/concert-bach-avec-le-gout-italien-piano-a-quatre-mains/
LOCATION:24 rue Pierre Nicole\, Paris\, 75005\, France
CATEGORIES:Concerts
ATTACH;FMTTYPE=image/jpeg:http://institutluther.com/wp-content/uploads/2023/10/Bach-avec-2.jpg
END:VEVENT
END:VCALENDAR