BEGIN:VCALENDAR
VERSION:2.0
PRODID:-//Institut Martin Luther - ECPv4.3.3//NONSGML v1.0//EN
CALSCALE:GREGORIAN
METHOD:PUBLISH
X-WR-CALNAME:Institut Martin Luther
X-ORIGINAL-URL:http://institutluther.com
X-WR-CALDESC:Events for Institut Martin Luther
BEGIN:VEVENT
DTSTART;TZID=Europe/Paris:20190601T170000
DTEND;TZID=Europe/Paris:20190601T190000
DTSTAMP:20260421T232813
CREATED:20190505T080843Z
LAST-MODIFIED:20190505T104015Z
UID:318-1559408400-1559415600@institutluther.com
SUMMARY:Assemblée Générale ICML - samedi 1er juin 2019 à 17h - église luthérienne de l'Ascension
DESCRIPTION:Invitation à l'Assemblée Générale et au concert du 1er juin 2019 à télécharger\nAdresse : église luthérienne de l'Ascension - 47\, rue Dulong\, Paris 17e (métro Rome ou Pont Cardinet)\n
URL:http://institutluther.com/event/assemblee-generale-icml/
LOCATION:47\, rue Dulong\, Paris\, 75017\, France
CATEGORIES:Assemblée Générale,Concerts
ORGANIZER;CN="Institut%20Culturel%20Martin%20Luther":MAILTO:institut.luther@gmail.com
END:VEVENT
BEGIN:VEVENT
DTSTART;TZID=Europe/Paris:20190601T180000
DTEND;TZID=Europe/Paris:20190601T190000
DTSTAMP:20260421T232813
CREATED:20190505T082457Z
LAST-MODIFIED:20190505T104312Z
UID:331-1559412000-1559415600@institutluther.com
SUMMARY:Concert : Messe de saint Antoine abbé de Guillaume Dufay - ensemble Vox In Rama - église luthérienne de l'Ascension
DESCRIPTION: \nConcert invité par l'ICML dans le cadre de l'Assemblée Générale\nTéléchargez votre invitation!\n
URL:http://institutluther.com/event/concert-chants-de-devotion-a-saint-antoine-abbe-ensemble-vox-in-rama/
LOCATION:47\, rue Dulong\, Paris\, 75017\, France
CATEGORIES:Assemblée Générale,Concerts
ORGANIZER;CN="Institut%20Culturel%20Martin%20Luther":MAILTO:institut.luther@gmail.com
END:VEVENT
END:VCALENDAR