BEGIN:VCALENDAR
VERSION:2.0
PRODID:-//Institut Martin Luther - ECPv4.3.3//NONSGML v1.0//EN
CALSCALE:GREGORIAN
METHOD:PUBLISH
X-WR-CALNAME:Institut Martin Luther
X-ORIGINAL-URL:http://institutluther.com
X-WR-CALDESC:Events for Institut Martin Luther
BEGIN:VEVENT
DTSTART;TZID=Europe/Paris:20170506T200000
DTEND;TZID=Europe/Paris:20170506T220000
DTSTAMP:20260421T144747
CREATED:20161128T000409Z
LAST-MODIFIED:20170330T165359Z
UID:107-1494100800-1494108000@institutluther.com
SUMMARY:Mystère Vox Sanguinis
DESCRIPTION:Parrainage du spectacle Vox sanguinis sur l’abbesse mystique Hildegarde de Bingen\, dont les deux premières représentations auront lieu les 5 et 6 mai 2017 à 20h à l’église luthérienne Saint-Marcel (Paris 5e). Réservez votre place sur le site de l’ensemble médiéval Vox In Rama.
URL:http://institutluther.com/event/spectacle-vox-sanguinis-2/
LOCATION:24 rue Pierre Nicole\, Paris\, 75005\, France
CATEGORIES:Concerts,Spectacles
ATTACH;FMTTYPE=image/jpeg:http://institutluther.com/wp-content/uploads/2017/03/TRACT_VOX_052017.jpg
ORGANIZER;CN="Vox%20in%20Rama":MAILTO:voxinrama@gmail.com
END:VEVENT
END:VCALENDAR