BEGIN:VCALENDAR
VERSION:2.0
PRODID:-//Institut Martin Luther - ECPv4.3.3//NONSGML v1.0//EN
CALSCALE:GREGORIAN
METHOD:PUBLISH
X-WR-CALNAME:Institut Martin Luther
X-ORIGINAL-URL:http://institutluther.com
X-WR-CALDESC:Events for Institut Martin Luther
BEGIN:VEVENT
DTSTART;TZID=Europe/Paris:20260611T190000
DTEND;TZID=Europe/Paris:20260611T203000
DTSTAMP:20260423T194345
CREATED:20260423T160937Z
LAST-MODIFIED:20260423T161024Z
UID:883-1781204400-1781209800@institutluther.com
SUMMARY:Concert du Stimmung Trio le jeudi 11 juin 2026 à 19h
DESCRIPTION:
URL:http://institutluther.com/event/concert-du-stimmung-trio-le-jeudi-11-juin-2026-a-19h/
LOCATION:24 rue Pierre Nicole\, Paris\, 75005\, France
CATEGORIES:Concerts
END:VEVENT
END:VCALENDAR