BEGIN:VCALENDAR
VERSION:2.0
PRODID:-//Institut Martin Luther - ECPv4.3.3//NONSGML v1.0//EN
CALSCALE:GREGORIAN
METHOD:PUBLISH
X-WR-CALNAME:Institut Martin Luther
X-ORIGINAL-URL:http://institutluther.com
X-WR-CALDESC:Events for Institut Martin Luther
BEGIN:VEVENT
DTSTART;TZID=Europe/Paris:20240404T200000
DTEND;TZID=Europe/Paris:20240404T213000
DTSTAMP:20260422T175726
CREATED:20231125T162352Z
LAST-MODIFIED:20231125T162352Z
UID:622-1712260800-1712266200@institutluther.com
SUMMARY:Concert "Bach avec" : "Toccata" (Sandro de Palma\, piano)
DESCRIPTION:www.bachavec.com
URL:http://institutluther.com/event/concert-bach-avec-toccata-sandro-de-palma-piano/
LOCATION:24 rue Pierre Nicole\, Paris\, 75005\, France
CATEGORIES:Concerts
ATTACH;FMTTYPE=image/jpeg:http://institutluther.com/wp-content/uploads/2023/10/Bach-avec-2.jpg
END:VEVENT
END:VCALENDAR