BEGIN:VCALENDAR
VERSION:2.0
PRODID:-//Institut Martin Luther - ECPv4.3.3//NONSGML v1.0//EN
CALSCALE:GREGORIAN
METHOD:PUBLISH
X-WR-CALNAME:Institut Martin Luther
X-ORIGINAL-URL:http://institutluther.com
X-WR-CALDESC:Events for Institut Martin Luther
BEGIN:VEVENT
DTSTART;TZID=Europe/Paris:20240314T200000
DTEND;TZID=Europe/Paris:20240314T213000
DTSTAMP:20260422T202742
CREATED:20231125T162248Z
LAST-MODIFIED:20231125T162248Z
UID:620-1710446400-1710451800@institutluther.com
SUMMARY:Concert "Bach avec" : "Diabolus in Espana" (Antonio Soria\, piano)
DESCRIPTION:www.bachavec.com
URL:http://institutluther.com/event/concert-bach-avec-diabolus-in-espana-antonio-soria-piano/
LOCATION:24 rue Pierre Nicole\, Paris\, 75005\, France
CATEGORIES:Concerts
ATTACH;FMTTYPE=image/jpeg:http://institutluther.com/wp-content/uploads/2023/10/Bach-avec-2.jpg
END:VEVENT
END:VCALENDAR