BEGIN:VCALENDAR
VERSION:2.0
PRODID:-//Institut Martin Luther - ECPv4.3.3//NONSGML v1.0//EN
CALSCALE:GREGORIAN
METHOD:PUBLISH
X-WR-CALNAME:Institut Martin Luther
X-ORIGINAL-URL:http://institutluther.com
X-WR-CALDESC:Events for Institut Martin Luther
BEGIN:VEVENT
DTSTART;TZID=Europe/Paris:20241121T200000
DTEND;TZID=Europe/Paris:20241121T213000
DTSTAMP:20260423T111750
CREATED:20241010T152707Z
LAST-MODIFIED:20241010T152707Z
UID:697-1732219200-1732224600@institutluther.com
SUMMARY:Bach\, l'intégrale des Suites pour violoncelle\, Valérie Aimard
DESCRIPTION:Deuxième soirée
URL:http://institutluther.com/event/bach-lintegrale-des-suites-pour-violoncelle-valerie-aimard-2/
LOCATION:24 rue Pierre Nicole\, Paris\, 75005\, France
CATEGORIES:Concerts
ATTACH;FMTTYPE=image/png:http://institutluther.com/wp-content/uploads/2024/10/2024-11-CONCERTS-en-NOVEMBRE.png
END:VEVENT
END:VCALENDAR