BEGIN:VCALENDAR
VERSION:2.0
PRODID:-//Institut Martin Luther - ECPv4.3.3//NONSGML v1.0//EN
CALSCALE:GREGORIAN
METHOD:PUBLISH
X-WR-CALNAME:Institut Martin Luther
X-ORIGINAL-URL:http://institutluther.com
X-WR-CALDESC:Events for Institut Martin Luther
BEGIN:VEVENT
DTSTART;VALUE=DATE:20170113
DTEND;VALUE=DATE:20170115
DTSTAMP:20260421T145857
CREATED:20161219T182341Z
LAST-MODIFIED:20161219T200833Z
UID:153-1484265600-1484524799@institutluther.com
SUMMARY:5è Festival du Beau
DESCRIPTION:
URL:http://institutluther.com/event/5e-festival-du-beau/
LOCATION:Paris 17e\, France
CATEGORIES:Festivals
END:VEVENT
END:VCALENDAR